BEGIN:VCALENDAR
VERSION:2.0
PRODID:-//Texas Police Chiefs Association Training Site - ECPv6.15.20//NONSGML v1.0//EN
CALSCALE:GREGORIAN
METHOD:PUBLISH
X-WR-CALNAME:Texas Police Chiefs Association Training Site
X-ORIGINAL-URL:https://tpcatraining.elementlms.com
X-WR-CALDESC:Events for Texas Police Chiefs Association Training Site
REFRESH-INTERVAL;VALUE=DURATION:PT1H
X-Robots-Tag:noindex
X-PUBLISHED-TTL:PT1H
BEGIN:VTIMEZONE
TZID:America/Chicago
BEGIN:DAYLIGHT
TZOFFSETFROM:-0600
TZOFFSETTO:-0500
TZNAME:CDT
DTSTART:20240310T080000
END:DAYLIGHT
BEGIN:STANDARD
TZOFFSETFROM:-0500
TZOFFSETTO:-0600
TZNAME:CST
DTSTART:20241103T070000
END:STANDARD
BEGIN:DAYLIGHT
TZOFFSETFROM:-0600
TZOFFSETTO:-0500
TZNAME:CDT
DTSTART:20250309T080000
END:DAYLIGHT
BEGIN:STANDARD
TZOFFSETFROM:-0500
TZOFFSETTO:-0600
TZNAME:CST
DTSTART:20251102T070000
END:STANDARD
BEGIN:DAYLIGHT
TZOFFSETFROM:-0600
TZOFFSETTO:-0500
TZNAME:CDT
DTSTART:20260308T080000
END:DAYLIGHT
BEGIN:STANDARD
TZOFFSETFROM:-0500
TZOFFSETTO:-0600
TZNAME:CST
DTSTART:20261101T070000
END:STANDARD
END:VTIMEZONE
BEGIN:VEVENT
DTSTART;TZID=America/Chicago:20250929T080000
DTEND;TZID=America/Chicago:20251003T170000
DTSTAMP:20260421T075638
CREATED:20250617T202325Z
LAST-MODIFIED:20250617T202325Z
UID:10005716-1759132800-1759510800@tpcatraining.elementlms.com
SUMMARY:2025 Basic Field Training Officers Course\, Harker Heights 9/29-10/3/25
DESCRIPTION:For More information click here
URL:https://tpcatraining.elementlms.com/event/2025-basic-field-training-officers-course-harker-heights-9-29-10-3-25/
END:VEVENT
BEGIN:VEVENT
DTSTART;TZID=America/Chicago:20250929T080000
DTEND;TZID=America/Chicago:20251003T170000
DTSTAMP:20260421T075638
CREATED:20251209T200329Z
LAST-MODIFIED:20251216T190229Z
UID:10005851-1759132800-1759510800@tpcatraining.elementlms.com
SUMMARY:2025 Developing Leaders - Decatur - 9/29/25
DESCRIPTION:? View Flyer \nDeveloping Leaders Course Materials (Updated) \nFor More information click here
URL:https://tpcatraining.elementlms.com/event/2025-developing-leaders-decatur-9-29-25/
END:VEVENT
END:VCALENDAR