BEGIN:VCALENDAR
VERSION:2.0
PRODID:-//Texas Police Chiefs Association Training Site - ECPv6.15.20//NONSGML v1.0//EN
CALSCALE:GREGORIAN
METHOD:PUBLISH
X-WR-CALNAME:Texas Police Chiefs Association Training Site
X-ORIGINAL-URL:https://tpcatraining.elementlms.com
X-WR-CALDESC:Events for Texas Police Chiefs Association Training Site
REFRESH-INTERVAL;VALUE=DURATION:PT1H
X-Robots-Tag:noindex
X-PUBLISHED-TTL:PT1H
BEGIN:VTIMEZONE
TZID:America/Chicago
BEGIN:DAYLIGHT
TZOFFSETFROM:-0600
TZOFFSETTO:-0500
TZNAME:CDT
DTSTART:20240310T080000
END:DAYLIGHT
BEGIN:STANDARD
TZOFFSETFROM:-0500
TZOFFSETTO:-0600
TZNAME:CST
DTSTART:20241103T070000
END:STANDARD
BEGIN:DAYLIGHT
TZOFFSETFROM:-0600
TZOFFSETTO:-0500
TZNAME:CDT
DTSTART:20250309T080000
END:DAYLIGHT
BEGIN:STANDARD
TZOFFSETFROM:-0500
TZOFFSETTO:-0600
TZNAME:CST
DTSTART:20251102T070000
END:STANDARD
BEGIN:DAYLIGHT
TZOFFSETFROM:-0600
TZOFFSETTO:-0500
TZNAME:CDT
DTSTART:20260308T080000
END:DAYLIGHT
BEGIN:STANDARD
TZOFFSETFROM:-0500
TZOFFSETTO:-0600
TZNAME:CST
DTSTART:20261101T070000
END:STANDARD
END:VTIMEZONE
BEGIN:VEVENT
DTSTART;TZID=America/Chicago:20250602T080000
DTEND;TZID=America/Chicago:20250603T170000
DTSTAMP:20260421T075438
CREATED:20241105T221944Z
LAST-MODIFIED:20241105T221944Z
UID:10000139-1748851200-1748970000@tpcatraining.elementlms.com
SUMMARY:2025 Managing Criminal Investigations - Granbury
DESCRIPTION:For More information click here
URL:https://tpcatraining.elementlms.com/event/2025-managing-criminal-investigations-granbury/
END:VEVENT
BEGIN:VEVENT
DTSTART;TZID=America/Chicago:20250604T080000
DTEND;TZID=America/Chicago:20250605T170000
DTSTAMP:20260421T075438
CREATED:20241105T221947Z
LAST-MODIFIED:20241105T221947Z
UID:10000145-1749024000-1749142800@tpcatraining.elementlms.com
SUMMARY:2025 Managing Patrol Operations - Jersey Village
DESCRIPTION:This 16 hour course is designed for Chiefs\, Patrol Commanders as well as Patrol Supervisors.    It addresses historical scientific studies\, deployment strategies\, staffing levels\, shift patterns and leadership issues.  \nFor More information click here
URL:https://tpcatraining.elementlms.com/event/2025-managing-patrol-operations-jersey-village/
END:VEVENT
BEGIN:VEVENT
DTSTART;TZID=America/Chicago:20250606T080000
DTEND;TZID=America/Chicago:20250606T170000
DTSTAMP:20260421T075438
CREATED:20241105T221931Z
LAST-MODIFIED:20241105T221931Z
UID:10000110-1749196800-1749229200@tpcatraining.elementlms.com
SUMMARY:2025 Auditing & Inspections - Jersey Village
DESCRIPTION:This 8 hour course is for supervisors and is designed to teach the basics of auditing and inspecting police operations to ensure compliance with policies and quality processes.      \nFor More information click here
URL:https://tpcatraining.elementlms.com/event/2025-auditing-inspections-jersey-village/
END:VEVENT
BEGIN:VEVENT
DTSTART;TZID=America/Chicago:20250609T080000
DTEND;TZID=America/Chicago:20250613T170000
DTSTAMP:20260421T075438
CREATED:20250107T232424Z
LAST-MODIFIED:20250107T232424Z
UID:10005620-1749456000-1749834000@tpcatraining.elementlms.com
SUMMARY:2025 Developing Leaders - Rosenberg
DESCRIPTION:A 120-hour course taught in three 1-week modules to focus on leadership. Adapted from the “West Point” model specifically for Police.\nWeek 1: April 14-17\, Week 2: May 12-16\, Week 3: June 9-13 – All in Rosenberg \nFor More information click here
URL:https://tpcatraining.elementlms.com/event/2025-developing-leaders-rosenberg-3/
END:VEVENT
BEGIN:VEVENT
DTSTART;TZID=America/Chicago:20250613T080000
DTEND;TZID=America/Chicago:20250613T170000
DTSTAMP:20260421T075438
CREATED:20250205T203040Z
LAST-MODIFIED:20250205T203040Z
UID:10005670-1749801600-1749834000@tpcatraining.elementlms.com
SUMMARY:2025 Tactical Emergency Casualty Care - Corsicana 6/13/25
DESCRIPTION:For More information click here
URL:https://tpcatraining.elementlms.com/event/2025-tactical-emergency-casualty-care-corsicana-6-13-25/
END:VEVENT
BEGIN:VEVENT
DTSTART;TZID=America/Chicago:20250616T080000
DTEND;TZID=America/Chicago:20250617T170000
DTSTAMP:20260421T075438
CREATED:20241105T222005Z
LAST-MODIFIED:20241105T222005Z
UID:10000166-1750060800-1750179600@tpcatraining.elementlms.com
SUMMARY:2025 Performance Appraisals & Employee Accountability - MCC Waco
DESCRIPTION:For More information click here
URL:https://tpcatraining.elementlms.com/event/2025-performance-appraisals-employee-accountability-mcc-waco/
END:VEVENT
BEGIN:VEVENT
DTSTART;TZID=America/Chicago:20250623T080000
DTEND;TZID=America/Chicago:20250627T170000
DTSTAMP:20260421T075438
CREATED:20250107T232957Z
LAST-MODIFIED:20250107T232957Z
UID:10005623-1750665600-1751043600@tpcatraining.elementlms.com
SUMMARY:2025 Developing Leaders - Universal City
DESCRIPTION:A 120-hour course taught in three 1-week modules to focus on leadership. Adapted from the “West Point” model specifically for Police.\nWeek 1: April 29 to May 2\, Week 2: May 27-30\, Week 3: June 23-27 – All in Universal City \nFor More information click here
URL:https://tpcatraining.elementlms.com/event/2025-developing-leaders-universal-city-4/
END:VEVENT
END:VCALENDAR